Package: RNAmodR.RiboMethSeq Version: 1.25.0 Command: /home/biocbuild/bbs-3.23-bioc/R/bin/R CMD build --keep-empty-dirs --no-resave-data RNAmodR.RiboMethSeq StartedAt: 2025-11-03 19:32:09 -0500 (Mon, 03 Nov 2025) EndedAt: 2025-11-03 19:34:06 -0500 (Mon, 03 Nov 2025) EllapsedTime: 117.1 seconds RetCode: 0 Status: OK PackageFile: RNAmodR.RiboMethSeq_1.25.0.tar.gz PackageFileSize: 642.1 KiB