Package: RNAmodR.ML Version: 1.25.0 Command: /home/biocbuild/bbs-3.23-bioc/R/bin/R CMD INSTALL RNAmodR.ML StartedAt: 2025-11-03 15:46:56 -0500 (Mon, 03 Nov 2025) EndedAt: 2025-11-03 15:47:57 -0500 (Mon, 03 Nov 2025) EllapsedTime: 60.9 seconds RetCode: 0 Status: OK