Package: RNAmodR.ML Version: 1.25.0 Command: /home/biocbuild/bbs-3.23-bioc/R/bin/R CMD check --install=check:RNAmodR.ML.install-out.txt --library=/home/biocbuild/bbs-3.23-bioc/R/site-library --timings RNAmodR.ML_1.25.0.tar.gz StartedAt: 2025-11-05 03:06:37 -0500 (Wed, 05 Nov 2025) EndedAt: 2025-11-05 03:16:23 -0500 (Wed, 05 Nov 2025) EllapsedTime: 586.9 seconds RetCode: 0 Status: OK CheckDir: RNAmodR.ML.Rcheck Warnings: 0