Package: RNAmodR.ML Version: 1.25.0 Command: /home/biocbuild/bbs-3.23-bioc/R/bin/R CMD build --keep-empty-dirs --no-resave-data RNAmodR.ML StartedAt: 2025-11-03 19:31:54 -0500 (Mon, 03 Nov 2025) EndedAt: 2025-11-03 19:35:04 -0500 (Mon, 03 Nov 2025) EllapsedTime: 190.2 seconds RetCode: 0 Status: OK PackageFile: RNAmodR.ML_1.25.0.tar.gz PackageFileSize: 1.654 MiB