Package: RNAmodR.AlkAnilineSeq Version: 1.23.1 Command: /home/biocbuild/R/R/bin/R CMD INSTALL RNAmodR.AlkAnilineSeq StartedAt: 2025-10-13 21:34:58 -0000 (Mon, 13 Oct 2025) EndedAt: 2025-10-13 21:36:10 -0000 (Mon, 13 Oct 2025) EllapsedTime: 71.8 seconds RetCode: 0 Status: OK