Package: RNAmodR.AlkAnilineSeq Version: 1.23.1 Command: /home/biocbuild/R/R/bin/R CMD build --keep-empty-dirs --no-resave-data RNAmodR.AlkAnilineSeq StartedAt: 2025-10-14 03:03:50 -0000 (Tue, 14 Oct 2025) EndedAt: 2025-10-14 03:07:09 -0000 (Tue, 14 Oct 2025) EllapsedTime: 199.1 seconds RetCode: 0 Status: OK PackageFile: RNAmodR.AlkAnilineSeq_1.23.1.tar.gz PackageFileSize: 978.4 KiB