Package: RNAmodR.AlkAnilineSeq Version: 1.23.0 Command: F:\biocbuild\bbs-3.22-bioc\R\bin\R.exe CMD INSTALL RNAmodR.AlkAnilineSeq StartedAt: 2025-08-14 16:49:41 -0400 (Thu, 14 Aug 2025) EndedAt: 2025-08-14 16:51:00 -0400 (Thu, 14 Aug 2025) EllapsedTime: 78.7 seconds RetCode: 0 Status: OK