Package: RNAmodR.AlkAnilineSeq Version: 1.23.0 Command: chmod a+r RNAmodR.AlkAnilineSeq -R && F:\biocbuild\bbs-3.22-bioc\R\bin\R.exe CMD build --keep-empty-dirs --no-resave-data RNAmodR.AlkAnilineSeq StartedAt: 2025-08-14 22:49:51 -0400 (Thu, 14 Aug 2025) EndedAt: 2025-08-14 22:53:51 -0400 (Thu, 14 Aug 2025) EllapsedTime: 239.7 seconds RetCode: 0 Status: OK PackageFile: RNAmodR.AlkAnilineSeq_1.23.0.tar.gz PackageFileSize: 906.1 KiB