Package: RNAmodR.AlkAnilineSeq Version: 1.23.0 Command: rm -rf RNAmodR.AlkAnilineSeq.buildbin-libdir && mkdir RNAmodR.AlkAnilineSeq.buildbin-libdir && F:\biocbuild\bbs-3.22-bioc\R\bin\R.exe CMD INSTALL --build --library=RNAmodR.AlkAnilineSeq.buildbin-libdir RNAmodR.AlkAnilineSeq_1.23.0.tar.gz StartedAt: 2025-08-15 11:09:38 -0400 (Fri, 15 Aug 2025) EndedAt: 2025-08-15 11:13:59 -0400 (Fri, 15 Aug 2025) EllapsedTime: 261.1 seconds RetCode: 0 Status: OK PackageFile: RNAmodR.AlkAnilineSeq_1.23.0.zip PackageFileSize: 981.9 KiB