Package: RNAmodR.AlkAnilineSeq Version: 1.25.0 Command: /home/biocbuild/bbs-3.23-bioc/R/bin/R CMD INSTALL RNAmodR.AlkAnilineSeq StartedAt: 2025-11-04 15:46:26 -0500 (Tue, 04 Nov 2025) EndedAt: 2025-11-04 15:47:25 -0500 (Tue, 04 Nov 2025) EllapsedTime: 59.5 seconds RetCode: 0 Status: OK