Package: RNAdecay Version: 1.31.0 Command: /home/biocbuild/bbs-3.23-bioc/R/bin/R CMD build --keep-empty-dirs --no-resave-data RNAdecay StartedAt: 2025-11-07 19:36:38 -0500 (Fri, 07 Nov 2025) EndedAt: 2025-11-07 19:46:56 -0500 (Fri, 07 Nov 2025) EllapsedTime: 618.6 seconds RetCode: 1 Status: ERROR PackageFile: None PackageFileSize: NA