Package: RNAdecay Version: 1.29.0 Command: /Library/Frameworks/R.framework/Resources/bin/R CMD INSTALL RNAdecay StartedAt: 2025-10-13 15:12:21 -0400 (Mon, 13 Oct 2025) EndedAt: 2025-10-13 15:18:10 -0400 (Mon, 13 Oct 2025) EllapsedTime: 348.7 seconds RetCode: 0 Status: OK