Package: RNAdecay Version: 1.29.0 Command: /Library/Frameworks/R.framework/Resources/bin/R CMD build --keep-empty-dirs --no-resave-data RNAdecay StartedAt: 2025-10-14 19:00:08 -0400 (Tue, 14 Oct 2025) EndedAt: 2025-10-14 19:11:19 -0400 (Tue, 14 Oct 2025) EllapsedTime: 670.7 seconds RetCode: 1 Status: ERROR PackageFile: None PackageFileSize: NA