Package: RNAdecay Version: 1.31.0 Maintainer: Reed Sorenson MaintainerEmail: reedssorenson at gmail.com git_url: https://git.bioconductor.org/packages/RNAdecay git_branch: devel git_last_commit: 5f4a6cd git_last_commit_date: 2025-10-29 11:27:20 -0400 (Wed, 29 Oct 2025)