Package: RNASeqPower Version: 1.51.0 Command: /home/biocbuild/bbs-3.23-bioc/R/bin/R CMD INSTALL RNASeqPower StartedAt: 2025-11-02 15:08:28 -0500 (Sun, 02 Nov 2025) EndedAt: 2025-11-02 15:08:38 -0500 (Sun, 02 Nov 2025) EllapsedTime: 9.4 seconds RetCode: 0 Status: OK