Package: RNASeqPower Version: 1.51.0 Command: /home/biocbuild/bbs-3.23-bioc/R/bin/R CMD build --keep-empty-dirs --no-resave-data RNASeqPower StartedAt: 2025-10-31 19:50:32 -0400 (Fri, 31 Oct 2025) EndedAt: 2025-10-31 19:50:36 -0400 (Fri, 31 Oct 2025) EllapsedTime: 4.0 seconds RetCode: 0 Status: OK PackageFile: RNASeqPower_1.51.0.tar.gz PackageFileSize: 191.4 KiB