Package: RNASeqPower Version: 1.49.0 Command: /Library/Frameworks/R.framework/Resources/bin/R CMD INSTALL RNASeqPower StartedAt: 2025-10-08 15:08:21 -0400 (Wed, 08 Oct 2025) EndedAt: 2025-10-08 15:08:40 -0400 (Wed, 08 Oct 2025) EllapsedTime: 19.8 seconds RetCode: 0 Status: OK