Package: RNASeqPower Version: 1.49.0 Command: /Library/Frameworks/R.framework/Resources/bin/R CMD build --keep-empty-dirs --no-resave-data RNASeqPower StartedAt: 2025-10-08 19:00:39 -0400 (Wed, 08 Oct 2025) EndedAt: 2025-10-08 19:00:51 -0400 (Wed, 08 Oct 2025) EllapsedTime: 11.5 seconds RetCode: 0 Status: OK PackageFile: RNASeqPower_1.49.0.tar.gz PackageFileSize: 191 KiB