Package: RNASeqPower Version: 1.49.0 Command: rm -rf RNASeqPower.buildbin-libdir && mkdir RNASeqPower.buildbin-libdir && /Users/biocbuild/BBS/utils/build-universal.sh RNASeqPower_1.49.0.tar.gz /Library/Frameworks/R.framework/Resources/bin/R RNASeqPower.buildbin-libdir StartedAt: 2025-10-09 02:51:55 -0400 (Thu, 09 Oct 2025) EndedAt: 2025-10-09 02:52:01 -0400 (Thu, 09 Oct 2025) EllapsedTime: 5.8 seconds RetCode: 0 Status: OK PackageFile: RNASeqPower_1.49.0.tgz PackageFileSize: 198.6 KiB