Package: RNAAgeCalc Version: 1.21.0 Command: /Library/Frameworks/R.framework/Resources/bin/R CMD INSTALL RNAAgeCalc StartedAt: 2025-09-30 15:50:53 -0400 (Tue, 30 Sep 2025) EndedAt: 2025-09-30 15:51:51 -0400 (Tue, 30 Sep 2025) EllapsedTime: 57.9 seconds RetCode: 0 Status: OK