Package: RNAAgeCalc Version: 1.21.0 Command: /Library/Frameworks/R.framework/Resources/bin/R CMD build --keep-empty-dirs --no-resave-data RNAAgeCalc StartedAt: 2025-09-30 18:31:56 -0400 (Tue, 30 Sep 2025) EndedAt: 2025-09-30 18:33:22 -0400 (Tue, 30 Sep 2025) EllapsedTime: 85.8 seconds RetCode: 0 Status: OK PackageFile: RNAAgeCalc_1.21.0.tar.gz PackageFileSize: 3.337 MiB