Package: RNAAgeCalc Version: 1.21.0 Command: rm -rf RNAAgeCalc.buildbin-libdir && mkdir RNAAgeCalc.buildbin-libdir && /Users/biocbuild/BBS/utils/build-universal.sh RNAAgeCalc_1.21.0.tar.gz /Library/Frameworks/R.framework/Resources/bin/R RNAAgeCalc.buildbin-libdir StartedAt: 2025-10-01 02:02:33 -0400 (Wed, 01 Oct 2025) EndedAt: 2025-10-01 02:03:48 -0400 (Wed, 01 Oct 2025) EllapsedTime: 74.9 seconds RetCode: 0 Status: OK PackageFile: RNAAgeCalc_1.21.0.tgz PackageFileSize: 3.472 MiB