Package: RMassBank Version: 3.21.0 Command: /home/biocbuild/bbs-3.23-bioc/R/bin/R CMD INSTALL RMassBank StartedAt: 2025-11-14 15:37:48 -0500 (Fri, 14 Nov 2025) EndedAt: 2025-11-14 15:38:39 -0500 (Fri, 14 Nov 2025) EllapsedTime: 50.9 seconds RetCode: 0 Status: OK