Package: RMassBank Version: 3.21.0 Command: /home/biocbuild/bbs-3.23-bioc/R/bin/R CMD build --keep-empty-dirs --no-resave-data RMassBank StartedAt: 2025-11-14 19:39:36 -0500 (Fri, 14 Nov 2025) EndedAt: 2025-11-14 19:46:35 -0500 (Fri, 14 Nov 2025) EllapsedTime: 419.5 seconds RetCode: 0 Status: OK PackageFile: RMassBank_3.21.0.tar.gz PackageFileSize: 1.844 MiB