Package: RMassBank Version: 3.19.0 Command: /Library/Frameworks/R.framework/Resources/bin/R CMD INSTALL RMassBank StartedAt: 2025-10-27 15:21:57 -0400 (Mon, 27 Oct 2025) EndedAt: 2025-10-27 15:22:18 -0400 (Mon, 27 Oct 2025) EllapsedTime: 20.9 seconds RetCode: 0 Status: OK