Package: RMassBank Version: 3.19.0 Command: /Library/Frameworks/R.framework/Resources/bin/R CMD build --keep-empty-dirs --no-resave-data RMassBank StartedAt: 2025-10-27 17:31:08 -0400 (Mon, 27 Oct 2025) EndedAt: 2025-10-27 17:33:48 -0400 (Mon, 27 Oct 2025) EllapsedTime: 159.8 seconds RetCode: 0 Status: OK PackageFile: RMassBank_3.19.0.tar.gz PackageFileSize: 1.839 MiB