Package: RLassoCox Version: 1.19.0 Command: /home/biocbuild/bbs-3.23-bioc/R/bin/R CMD INSTALL RLassoCox StartedAt: 2025-11-07 15:06:09 -0500 (Fri, 07 Nov 2025) EndedAt: 2025-11-07 15:06:44 -0500 (Fri, 07 Nov 2025) EllapsedTime: 34.8 seconds RetCode: 0 Status: OK