Package: RLassoCox Version: 1.17.0 Command: /Library/Frameworks/R.framework/Resources/bin/R CMD build --keep-empty-dirs --no-resave-data RLassoCox StartedAt: 2025-10-03 18:43:33 -0400 (Fri, 03 Oct 2025) EndedAt: 2025-10-03 18:44:56 -0400 (Fri, 03 Oct 2025) EllapsedTime: 83.6 seconds RetCode: 0 Status: OK PackageFile: RLassoCox_1.17.0.tar.gz PackageFileSize: 1.966 MiB