Package: RLassoCox Version: 1.17.0 Command: rm -rf RLassoCox.buildbin-libdir && mkdir RLassoCox.buildbin-libdir && /Users/biocbuild/BBS/utils/build-universal.sh RLassoCox_1.17.0.tar.gz /Library/Frameworks/R.framework/Resources/bin/R RLassoCox.buildbin-libdir StartedAt: 2025-10-04 02:25:25 -0400 (Sat, 04 Oct 2025) EndedAt: 2025-10-04 02:25:38 -0400 (Sat, 04 Oct 2025) EllapsedTime: 12.7 seconds RetCode: 0 Status: OK PackageFile: RLassoCox_1.17.0.tgz PackageFileSize: 1.992 MiB