Package: RLMM Version: 1.73.0 Command: /home/biocbuild/bbs-3.23-bioc/R/bin/R CMD INSTALL RLMM StartedAt: 2025-11-04 15:01:43 -0500 (Tue, 04 Nov 2025) EndedAt: 2025-11-04 15:01:52 -0500 (Tue, 04 Nov 2025) EllapsedTime: 9.6 seconds RetCode: 0 Status: OK