Package: RLMM Version: 1.73.0 Command: /home/biocbuild/bbs-3.23-bioc/R/bin/R CMD build --keep-empty-dirs --no-resave-data RLMM StartedAt: 2025-11-04 19:33:19 -0500 (Tue, 04 Nov 2025) EndedAt: 2025-11-04 19:33:25 -0500 (Tue, 04 Nov 2025) EllapsedTime: 6.0 seconds RetCode: 0 Status: OK PackageFile: RLMM_1.73.0.tar.gz PackageFileSize: 419.6 KiB