Package: RLMM Version: 1.71.0 Command: /Library/Frameworks/R.framework/Resources/bin/R CMD INSTALL RLMM StartedAt: 2025-10-07 15:05:16 -0400 (Tue, 07 Oct 2025) EndedAt: 2025-10-07 15:05:57 -0400 (Tue, 07 Oct 2025) EllapsedTime: 41.0 seconds RetCode: 0 Status: OK