Package: RLMM Version: 1.71.0 Command: /Library/Frameworks/R.framework/Resources/bin/R CMD build --keep-empty-dirs --no-resave-data RLMM StartedAt: 2025-10-07 18:49:12 -0400 (Tue, 07 Oct 2025) EndedAt: 2025-10-07 18:49:25 -0400 (Tue, 07 Oct 2025) EllapsedTime: 12.6 seconds RetCode: 0 Status: OK PackageFile: RLMM_1.71.0.tar.gz PackageFileSize: 418.9 KiB