Package: RLMM Version: 1.71.0 Command: rm -rf RLMM.buildbin-libdir && mkdir RLMM.buildbin-libdir && /Users/biocbuild/BBS/utils/build-universal.sh RLMM_1.71.0.tar.gz /Library/Frameworks/R.framework/Resources/bin/R RLMM.buildbin-libdir StartedAt: 2025-10-08 02:37:57 -0400 (Wed, 08 Oct 2025) EndedAt: 2025-10-08 02:38:04 -0400 (Wed, 08 Oct 2025) EllapsedTime: 6.8 seconds RetCode: 0 Status: OK PackageFile: RLMM_1.71.0.tgz PackageFileSize: 370.9 KiB