Package: RJMCMCNucleosomes Version: 1.33.2 Command: /home/biocbuild/bbs-3.22-bioc/R/bin/R CMD INSTALL RJMCMCNucleosomes StartedAt: 2025-09-30 15:29:19 -0400 (Tue, 30 Sep 2025) EndedAt: 2025-09-30 15:30:03 -0400 (Tue, 30 Sep 2025) EllapsedTime: 43.8 seconds RetCode: 0 Status: OK