Package: RJMCMCNucleosomes Version: 1.33.2 Command: /home/biocbuild/bbs-3.22-bioc/R/bin/R CMD build --keep-empty-dirs --no-resave-data --md5 RJMCMCNucleosomes StartedAt: 2025-09-30 19:38:48 -0400 (Tue, 30 Sep 2025) EndedAt: 2025-09-30 19:39:58 -0400 (Tue, 30 Sep 2025) EllapsedTime: 69.0 seconds RetCode: 0 Status: OK PackageFile: RJMCMCNucleosomes_1.33.2.tar.gz PackageFileSize: 571.2 KiB