Package: RJMCMCNucleosomes Version: 1.35.0 Command: /home/biocbuild/bbs-3.23-bioc/R/bin/R CMD INSTALL RJMCMCNucleosomes StartedAt: 2025-11-23 15:29:11 -0500 (Sun, 23 Nov 2025) EndedAt: 2025-11-23 15:29:57 -0500 (Sun, 23 Nov 2025) EllapsedTime: 46.0 seconds RetCode: 0 Status: OK