Package: RJMCMCNucleosomes Version: 1.35.0 Command: /home/biocbuild/bbs-3.23-bioc/R/bin/R CMD build --keep-empty-dirs --no-resave-data RJMCMCNucleosomes StartedAt: 2025-11-23 19:38:57 -0500 (Sun, 23 Nov 2025) EndedAt: 2025-11-23 19:40:07 -0500 (Sun, 23 Nov 2025) EllapsedTime: 70.1 seconds RetCode: 0 Status: OK PackageFile: RJMCMCNucleosomes_1.35.0.tar.gz PackageFileSize: 568.3 KiB