Package: RJMCMCNucleosomes Version: 1.35.0 Command: /Library/Frameworks/R.framework/Resources/bin/R CMD INSTALL RJMCMCNucleosomes StartedAt: 2025-11-21 15:17:14 -0500 (Fri, 21 Nov 2025) EndedAt: 2025-11-21 15:17:32 -0500 (Fri, 21 Nov 2025) EllapsedTime: 17.3 seconds RetCode: 0 Status: OK