Package: RJMCMCNucleosomes Version: 1.35.0 Command: /Library/Frameworks/R.framework/Resources/bin/R CMD build --keep-empty-dirs --no-resave-data RJMCMCNucleosomes StartedAt: 2025-11-21 17:27:01 -0500 (Fri, 21 Nov 2025) EndedAt: 2025-11-21 17:27:33 -0500 (Fri, 21 Nov 2025) EllapsedTime: 31.3 seconds RetCode: 0 Status: OK PackageFile: RJMCMCNucleosomes_1.35.0.tar.gz PackageFileSize: 569.9 KiB