Package: RJMCMCNucleosomes Version: 1.35.0 Command: rm -rf RJMCMCNucleosomes.buildbin-libdir && mkdir RJMCMCNucleosomes.buildbin-libdir && /Users/biocbuild/BBS/utils/build-universal.sh RJMCMCNucleosomes_1.35.0.tar.gz /Library/Frameworks/R.framework/Resources/bin/R RJMCMCNucleosomes.buildbin-libdir StartedAt: 2025-11-21 23:48:05 -0500 (Fri, 21 Nov 2025) EndedAt: 2025-11-21 23:48:28 -0500 (Fri, 21 Nov 2025) EllapsedTime: 22.4 seconds RetCode: 0 Status: OK PackageFile: RJMCMCNucleosomes_1.35.0.tgz PackageFileSize: 741.3 KiB