Package: RImmPort Version: 1.39.0 Command: /home/biocbuild/bbs-3.23-bioc/R/bin/R CMD build --keep-empty-dirs --no-resave-data RImmPort StartedAt: 2025-10-31 19:47:49 -0400 (Fri, 31 Oct 2025) EndedAt: 2025-10-31 19:48:08 -0400 (Fri, 31 Oct 2025) EllapsedTime: 19.0 seconds RetCode: 0 Status: OK PackageFile: RImmPort_1.39.0.tar.gz PackageFileSize: 2.823 MiB