Package: RImmPort Version: 1.39.0 Command: /Library/Frameworks/R.framework/Resources/bin/R CMD INSTALL RImmPort StartedAt: 2025-11-20 15:15:49 -0500 (Thu, 20 Nov 2025) EndedAt: 2025-11-20 15:16:16 -0500 (Thu, 20 Nov 2025) EllapsedTime: 26.8 seconds RetCode: 0 Status: OK