Package: RImmPort Version: 1.39.0 Command: /Library/Frameworks/R.framework/Resources/bin/R CMD build --keep-empty-dirs --no-resave-data RImmPort StartedAt: 2025-11-20 18:25:52 -0500 (Thu, 20 Nov 2025) EndedAt: 2025-11-20 18:26:22 -0500 (Thu, 20 Nov 2025) EllapsedTime: 29.7 seconds RetCode: 0 Status: OK PackageFile: RImmPort_1.39.0.tar.gz PackageFileSize: 2.821 MiB