Package: RImmPort Version: 1.39.0 Command: rm -rf RImmPort.buildbin-libdir && mkdir RImmPort.buildbin-libdir && /Users/biocbuild/BBS/utils/build-universal.sh RImmPort_1.39.0.tar.gz /Library/Frameworks/R.framework/Resources/bin/R RImmPort.buildbin-libdir StartedAt: 2025-11-21 01:52:56 -0500 (Fri, 21 Nov 2025) EndedAt: 2025-11-21 01:53:12 -0500 (Fri, 21 Nov 2025) EllapsedTime: 16.1 seconds RetCode: 0 Status: OK PackageFile: RImmPort_1.39.0.tgz PackageFileSize: 2.52 MiB