Package: RImmPort Version: 1.37.0 Command: /Library/Frameworks/R.framework/Resources/bin/R CMD build --keep-empty-dirs --no-resave-data RImmPort StartedAt: 2025-10-21 17:33:14 -0400 (Tue, 21 Oct 2025) EndedAt: 2025-10-21 17:33:25 -0400 (Tue, 21 Oct 2025) EllapsedTime: 11.1 seconds RetCode: 0 Status: OK PackageFile: RImmPort_1.37.0.tar.gz PackageFileSize: 2.821 MiB