Package: RIVER Version: 1.35.0 Command: /home/biocbuild/bbs-3.23-bioc/R/bin/R CMD build --keep-empty-dirs --no-resave-data RIVER StartedAt: 2025-11-20 19:38:36 -0500 (Thu, 20 Nov 2025) EndedAt: 2025-11-20 19:38:58 -0500 (Thu, 20 Nov 2025) EllapsedTime: 22.0 seconds RetCode: 0 Status: OK PackageFile: RIVER_1.35.0.tar.gz PackageFileSize: 1.457 MiB