Package: RIVER Version: 1.33.0 Command: /Library/Frameworks/R.framework/Resources/bin/R CMD build --keep-empty-dirs --no-resave-data RIVER StartedAt: 2025-10-14 18:59:23 -0400 (Tue, 14 Oct 2025) EndedAt: 2025-10-14 19:00:02 -0400 (Tue, 14 Oct 2025) EllapsedTime: 39.1 seconds RetCode: 0 Status: OK PackageFile: RIVER_1.33.0.tar.gz PackageFileSize: 1.471 MiB