Package: RIVER Version: 1.33.0 Command: rm -rf RIVER.buildbin-libdir && mkdir RIVER.buildbin-libdir && /Users/biocbuild/BBS/utils/build-universal.sh RIVER_1.33.0.tar.gz /Library/Frameworks/R.framework/Resources/bin/R RIVER.buildbin-libdir StartedAt: 2025-10-15 03:04:12 -0400 (Wed, 15 Oct 2025) EndedAt: 2025-10-15 03:04:29 -0400 (Wed, 15 Oct 2025) EllapsedTime: 17.4 seconds RetCode: 0 Status: OK PackageFile: RIVER_1.33.0.tgz PackageFileSize: 1.504 MiB