Package: RIVER Version: 1.35.0 Maintainer: Yungil Kim MaintainerEmail: ipw012 at gmail.com git_url: https://git.bioconductor.org/packages/RIVER git_branch: devel git_last_commit: 24ebc88 git_last_commit_date: 2025-10-29 10:37:54 -0400 (Wed, 29 Oct 2025)